BEGIN:VCALENDAR
VERSION:2.0
PRODID:spatie/icalendar-generator
DESCRIPTION:Events from Caldwell-Lake George Library
X-WR-CALDESC:Events from Caldwell-Lake George Library
REFRESH-INTERVAL;VALUE=DURATION:PT1440M
X-PUBLISHED-TTL:PT1440M
BEGIN:VTIMEZONE
TZID:America/New_York
BEGIN:DAYLIGHT
DTSTART:20240310T020000Z
TZOFFSETFROM:-0500
TZOFFSETTO:-0400
END:DAYLIGHT
BEGIN:STANDARD
DTSTART:20241103T020000Z
TZOFFSETFROM:-0400
TZOFFSETTO:-0500
END:STANDARD
BEGIN:DAYLIGHT
DTSTART:20250309T020000Z
TZOFFSETFROM:-0500
TZOFFSETTO:-0400
END:DAYLIGHT
END:VTIMEZONE
BEGIN:VTIMEZONE
TZID:UTC
BEGIN:STANDARD
DTSTART:20250728T114314Z
TZOFFSETFROM:+0000
TZOFFSETTO:+0000
END:STANDARD
END:VTIMEZONE
BEGIN:VEVENT
UID:51-21
DTSTAMP:20260424T114314Z
SUMMARY:Online Author Talk: Lori Gottlieb\, Examining the Truths and Fictio
 ns we Tell Ourselves
LOCATION:
ORGANIZER;CN=lburrows:MAILTO:lburrows@sals.edu
DTSTART;TZID=America/New_York:20241022T140000
DTEND;TZID=America/New_York:20241022T150000
X-ALT-DESC;FMTTYPE=TEXT/HTML:Lori Gottlieb\, Examining the Truths and Ficti
 ons we Tell Ourselves Tuesday\, October 22nd at 2:00 pm Every year\, nearl
 y 30 million Americans sit on a therapist’s couch—and some of these pa
 tients are therapists. In her remarkable book Maybe You Should Talk to Som
 eone\, Lori Gottlieb tells us that despite her license and rigorous traini
 ng\, her&amp;hellip\;
CATEGORIES:General
URL;VALUE=URI:https://lakegeorgelibrary.sals.edu/mc-events/online-author-ta
 lk-lori-gottlieb-examining-the-truths-and-fictions-we-tell-ourselves/
METHOD:PUBLISH
END:VEVENT
END:VCALENDAR